BEGIN:VCALENDAR
VERSION:2.0
PRODID:-//Verde Naturpuss - ECPv6.15.17.1//NONSGML v1.0//EN
CALSCALE:GREGORIAN
METHOD:PUBLISH
X-WR-CALNAME:Verde Naturpuss
X-ORIGINAL-URL:https://naturpuss.no
X-WR-CALDESC:Events for Verde Naturpuss
REFRESH-INTERVAL;VALUE=DURATION:PT1H
X-Robots-Tag:noindex
X-PUBLISHED-TTL:PT1H
BEGIN:VTIMEZONE
TZID:UTC
BEGIN:STANDARD
TZOFFSETFROM:+0000
TZOFFSETTO:+0000
TZNAME:UTC
DTSTART:20250101T000000
END:STANDARD
END:VTIMEZONE
BEGIN:VEVENT
DTSTART;VALUE=DATE:20260116
DTEND;VALUE=DATE:20260117
DTSTAMP:20260420T051052
CREATED:20251203T123430Z
LAST-MODIFIED:20251203T123430Z
UID:7100-1768521600-1768607999@naturpuss.no
SUMMARY:Innføringskurs Microquarz
DESCRIPTION:
URL:https://naturpuss.no/arrangement/innforingskurs-microquarz/
LOCATION:SHOWROOM OG BUTIKK\, Fekjan 7A\, Asker\, Norway
END:VEVENT
BEGIN:VEVENT
DTSTART;TZID=UTC:20260116T100000
DTEND;TZID=UTC:20260116T160000
DTSTAMP:20260420T051052
CREATED:20251203T113023Z
LAST-MODIFIED:20251208T101214Z
UID:7093-1768557600-1768579200@naturpuss.no
SUMMARY:Mikrosement Innføringskurs 16.01
DESCRIPTION:Dette kurset er perfekt for deg som ønsker å lære grunnleggende om mikrosement og dekorpuss. Du trenger ingen tidligere erfaring\, og kurset gir deg både teoretisk kunnskap og praktisk trening i påføringsteknikker.
URL:https://naturpuss.no/arrangement/mikrosement-innforingskurs-16-01/
LOCATION:SHOWROOM OG BUTIKK\, Fekjan 7A\, Asker\, Norway
CATEGORIES:Kurs
ATTACH;FMTTYPE=image/webp:https://naturpuss.no/wp-content/uploads/2025/05/8c4173_f6677fc794ed4b7a846fbf743df4e594mv2.webp
END:VEVENT
END:VCALENDAR